BEGIN:VCALENDAR
VERSION:2.0
PRODID:City of Avondale Calendar Creator
METHOD:PUBLISH
BEGIN:VEVENT
DTSTAMP:20250801T140345
DTSTART:20260408T160000
DTEND:20260408T170000
SUMMARY:Junior Service-Learning Club (JSLC)
DESCRIPTION:<div data-ogsc="rgb(0, 0, 0)"><b data-ogsc="" data-olk-copy-source="MessageBody"><span style="text-decoration: underline;">Junior Service-Learning Club</span></b></div><p data-ogsc="rgb(0, 0, 0)"><b data-ogsc="" data-olk-copy-source="MessageBody"><span style="text-decoration: underline;"></span></b></p><div>The Junior Service-Learning Club is open to Avondale residents in grades 6-8. The goal of this brand-new initiative is to encourage youth to take leadership roles in the community, gain a deeper understanding of teamwork, and inspire civic action by engaging in monthly service projects.<br><br>We meet the second Wednesday of the month at The Arizona Complete Health Avondale Resource Center located at 995 E. Riley Drive, Avondale, AZ from 4:00 p.m.- 5:00 p.m. JSLC takes a break from meetings during the summer months and resume in September.<br><br>For more information and to sign up, please email:&nbsp;<u data-ogsc=""><a id="OWAdcf7070e-17df-4ae5-6504-790b5002586c" href="mailto:magonzalez@avondaleaz.gov" data-linkindex="2" title="mailto:magonzalez@avondaleaz.gov" data-ogsc="rgb(29, 94, 132)">magonzalez@avondaleaz.gov</a></u>&nbsp;or call 623-333-2703.&nbsp;</div>
X-ALT-DESC;FMTTYPE=text/html:<div data-ogsc="rgb(0, 0, 0)"><b data-ogsc="" data-olk-copy-source="MessageBody"><span style="text-decoration: underline;">Junior Service-Learning Club</span></b></div><p data-ogsc="rgb(0, 0, 0)"><b data-ogsc="" data-olk-copy-source="MessageBody"><span style="text-decoration: underline;"></span></b></p><div>The Junior Service-Learning Club is open to Avondale residents in grades 6-8. The goal of this brand-new initiative is to encourage youth to take leadership roles in the community, gain a deeper understanding of teamwork, and inspire civic action by engaging in monthly service projects.<br><br>We meet the second Wednesday of the month at The Arizona Complete Health Avondale Resource Center located at 995 E. Riley Drive, Avondale, AZ from 4:00 p.m.- 5:00 p.m. JSLC takes a break from meetings during the summer months and resume in September.<br><br>For more information and to sign up, please email:&nbsp;<u data-ogsc=""><a id="OWAdcf7070e-17df-4ae5-6504-790b5002586c" href="mailto:magonzalez@avondaleaz.gov" data-linkindex="2" title="mailto:magonzalez@avondaleaz.gov" data-ogsc="rgb(29, 94, 132)">magonzalez@avondaleaz.gov</a></u>&nbsp;or call 623-333-2703.&nbsp;</div>
LOCATION:Avondale Resource Center\, 995 E. Riley Dr Avondale\, Arizona 85323
CLASS:PUBLIC
END:VEVENT
END:VCALENDAR
