BEGIN:VCALENDAR
VERSION:2.0
PRODID:City of Avondale Calendar Creator
METHOD:PUBLISH
BEGIN:VEVENT
DTSTAMP:20251031T123457
DTSTART:20260409T110000
DTEND:20260409T113000
SUMMARY:Family Storytime at Sam Garcia Library
DESCRIPTION:<p>Interactive storytime is packed with songs, rhymes, flannel stories, and fingerplays! We’ll share fun stories with simple storylines and predictable plots that will support your child’s developing literacy skills.</p><p><i>We are committed to making our events welcoming and accessible for everyone. If you need accommodations to participate, please email EmailLibrary@avondaleaz.gov or&nbsp;<a data-linkindex="7" title="https://www.avondalelibrary.org/about-us/contact-us" id="OWAa3e3d378-b24d-2087-4743-6d0021ed1d91" data-auth="NotApplicable" rel="noopener noreferrer" target="_blank" href="https://www.avondalelibrary.org/about-us/contact-us">fill out this form</a>.</i></p><p>For the latest information, find us on&nbsp;<a href="https://www.facebook.com/AvondaleLibrary/" target="_blank">Facebook</a>&nbsp;and&nbsp;<a href="https://www.instagram.com/avondalepubliclibrary/?hl=en" target="_blank">Instagram</a>.</p>
X-ALT-DESC;FMTTYPE=text/html:<p>Interactive storytime is packed with songs, rhymes, flannel stories, and fingerplays! We’ll share fun stories with simple storylines and predictable plots that will support your child’s developing literacy skills.</p><p><i>We are committed to making our events welcoming and accessible for everyone. If you need accommodations to participate, please email EmailLibrary@avondaleaz.gov or&nbsp;<a data-linkindex="7" title="https://www.avondalelibrary.org/about-us/contact-us" id="OWAa3e3d378-b24d-2087-4743-6d0021ed1d91" data-auth="NotApplicable" rel="noopener noreferrer" target="_blank" href="https://www.avondalelibrary.org/about-us/contact-us">fill out this form</a>.</i></p><p>For the latest information, find us on&nbsp;<a href="https://www.facebook.com/AvondaleLibrary/" target="_blank">Facebook</a>&nbsp;and&nbsp;<a href="https://www.instagram.com/avondalepubliclibrary/?hl=en" target="_blank">Instagram</a>.</p>
LOCATION:Sam Garcia Western Avenue Library\, 495 E. Western Ave. Avondale\, Arizona 85323
CLASS:PUBLIC
END:VEVENT
END:VCALENDAR
