BEGIN:VCALENDAR
VERSION:2.0
PRODID:City of Avondale Calendar Creator
METHOD:PUBLISH
BEGIN:VEVENT
DTSTAMP:20251113T153347
DTSTART:20260429T140000
DTEND:20260429T150000
SUMMARY:More2Explore (Ages 5-12) at Sam Garcia Library
DESCRIPTION:<p>Explore your SMART side with a variety of STEAM (Science, Technology, Engineering, Arts, and Mathematics) activities from painting and crafting to building and robotics.&nbsp;</p><p>2nd, 4th, and 5th Wednesdays. 2-3 p.m.</p><p>Explore a variety of STEAM (Science, Technology, Engineering, Arts,&nbsp;<br>and Math) activities — anything from painting and&nbsp;<br>crafting, to building and robotics.<br>Wed (2x) Jan 14, Jan 28 2 – 3 pm<br>Wed (2x) Feb 11, Feb 25 2 – 3 pm<br>Wed (2x) Mar 11, Mar 25 2 – 3 pm<br>Wed (3x) Apr 8, Apr 22, Apr 29 2 – 3 pm<br>Wed (1x) May 13 2 - 3 pm</p><p><i>We are committed to making our events welcoming and accessible for everyone. If you need accommodations to participate, please email EmailLibrary@avondaleaz.gov or&nbsp;<a data-linkindex="7" title="https://www.avondalelibrary.org/about-us/contact-us" id="OWAa3e3d378-b24d-2087-4743-6d0021ed1d91" data-auth="NotApplicable" rel="noopener noreferrer" target="_blank" href="https://www.avondalelibrary.org/about-us/contact-us">fill out this form</a>.</i></p><p>For the latest information, find us on&nbsp;<a href="https://www.facebook.com/AvondaleLibrary/" target="_blank">Facebook</a>&nbsp;and&nbsp;<a href="https://www.instagram.com/avondalepubliclibrary/?hl=en" target="_blank">Instagram</a>.</p>
X-ALT-DESC;FMTTYPE=text/html:<p>Explore your SMART side with a variety of STEAM (Science, Technology, Engineering, Arts, and Mathematics) activities from painting and crafting to building and robotics.&nbsp;</p><p>2nd, 4th, and 5th Wednesdays. 2-3 p.m.</p><p>Explore a variety of STEAM (Science, Technology, Engineering, Arts,&nbsp;<br>and Math) activities — anything from painting and&nbsp;<br>crafting, to building and robotics.<br>Wed (2x) Jan 14, Jan 28 2 – 3 pm<br>Wed (2x) Feb 11, Feb 25 2 – 3 pm<br>Wed (2x) Mar 11, Mar 25 2 – 3 pm<br>Wed (3x) Apr 8, Apr 22, Apr 29 2 – 3 pm<br>Wed (1x) May 13 2 - 3 pm</p><p><i>We are committed to making our events welcoming and accessible for everyone. If you need accommodations to participate, please email EmailLibrary@avondaleaz.gov or&nbsp;<a data-linkindex="7" title="https://www.avondalelibrary.org/about-us/contact-us" id="OWAa3e3d378-b24d-2087-4743-6d0021ed1d91" data-auth="NotApplicable" rel="noopener noreferrer" target="_blank" href="https://www.avondalelibrary.org/about-us/contact-us">fill out this form</a>.</i></p><p>For the latest information, find us on&nbsp;<a href="https://www.facebook.com/AvondaleLibrary/" target="_blank">Facebook</a>&nbsp;and&nbsp;<a href="https://www.instagram.com/avondalepubliclibrary/?hl=en" target="_blank">Instagram</a>.</p>
LOCATION:Sam Garcia Western Avenue Library\, 495 E. Western Ave. Avondale\, Arizona 85323
CLASS:PUBLIC
END:VEVENT
END:VCALENDAR
