BEGIN:VCALENDAR
VERSION:2.0
PRODID:City of Avondale Calendar Creator
METHOD:PUBLISH
BEGIN:VEVENT
DTSTAMP:20251105T135040
DTSTART:20260217T153000
DTEND:20260217T163000
SUMMARY:Block Party with Bricks & Minifigs Avondale at Sam Garcia Library
DESCRIPTION:<div>Brick building with all supplies included. This program is for children ages 5-12, but younger siblings are welcome</div><div>&nbsp;</div><div>Sponsored by Bricks &amp; Minifigs Avondale, you one-stop-shop for all things LEGO<span style="color: rgb(48, 58, 65); font-weight: 700;">®</span>. To learn more about Bricks &amp; Minifigs Avondale, <a href="https://bricksandminifigs.com/avondale-az/" target="_self">visit their website</a>.</div><p>&nbsp;</p><div></div><div></div><div></div>
X-ALT-DESC;FMTTYPE=text/html:<div>Brick building with all supplies included. This program is for children ages 5-12, but younger siblings are welcome</div><div>&nbsp;</div><div>Sponsored by Bricks &amp; Minifigs Avondale, you one-stop-shop for all things LEGO<span style="color: rgb(48, 58, 65); font-weight: 700;">®</span>. To learn more about Bricks &amp; Minifigs Avondale, <a href="https://bricksandminifigs.com/avondale-az/" target="_self">visit their website</a>.</div><p>&nbsp;</p><div></div><div></div><div></div>
LOCATION:Sam Garcia Western Avenue Library\, 495 E. Western Ave. Avondale\, Arizona 85323
CLASS:PUBLIC
END:VEVENT
END:VCALENDAR
