BEGIN:VCALENDAR
VERSION:2.0
PRODID:City of Avondale Calendar Creator
METHOD:PUBLISH
BEGIN:VEVENT
DTSTAMP:20251216T151033
DTSTART:20260411T140000
DTEND:20260411T150000
SUMMARY:Adult Craft: Paper Wine Vases at Sam Garcia Library (Ages 18+)
DESCRIPTION:<p>An afternoon&nbsp;of creativity and relaxation. Connect with others and take home your own handmade creation. Registration is not required, but space is limited to first twelve adults.</p><p>Sat (1x) Jan 10 2 – 3 pm Vision Boards<br>Sat (1x) Feb 14 2 – 3 pm Valentine Cookie Decorating 101<br>Sat (1x) Mar 14 2 – 3 pm Ceramic Mug Painting<br>Sat (1x) Apr 11 2 – 3 pm Paper Wine Vases</p>
X-ALT-DESC;FMTTYPE=text/html:<p>An afternoon&nbsp;of creativity and relaxation. Connect with others and take home your own handmade creation. Registration is not required, but space is limited to first twelve adults.</p><p>Sat (1x) Jan 10 2 – 3 pm Vision Boards<br>Sat (1x) Feb 14 2 – 3 pm Valentine Cookie Decorating 101<br>Sat (1x) Mar 14 2 – 3 pm Ceramic Mug Painting<br>Sat (1x) Apr 11 2 – 3 pm Paper Wine Vases</p>
LOCATION:Sam Garcia Western Avenue Library\, 495 E. Western Ave. Avondale\, Arizona 85323
CLASS:PUBLIC
END:VEVENT
END:VCALENDAR
