BEGIN:VCALENDAR
VERSION:2.0
PRODID:City of Avondale Calendar Creator
METHOD:PUBLISH
BEGIN:VEVENT
DTSTAMP:20251115T131218
DTSTART:20260407T160000
DTEND:20260407T170000
SUMMARY:Youth Book Club: Percy Jackson Series (ages 7-14)
DESCRIPTION:<p>YOUTH BOOK CLUB: PERCY JACKSON SERIES (AGES 7 – 14)<br>Embark on an exciting seven-month journey through the Percy&nbsp;Jackson series by Rick Riordan (graphic novels)! Each month, you'll receive a free copy&nbsp;of the next book in the series to read and discuss. You’ll receive the&nbsp;first book at the first meeting. Register on CivicRec to reserve your spot.</p><p>&nbsp;</p><p>January 6: During this meeting you'll receive your copy of Book 1: The Lightning Thief (graphic novel).&nbsp;<a href="https://secure.rec1.com/AZ/city-of-avondale-parks-recreation/catalog?filter=c2VhcmNoPTM5OTgzNTg=" target="_blank" rel="noopener">Register</a>.</p><p>February 3: Discuss Book 1: The Lightning Thief. You'll go home the Book 2: The Sea of Monsters.&nbsp;<a href="https://secure.rec1.com/AZ/city-of-avondale-parks-recreation/catalog?filter=c2VhcmNoPTM5OTgzNjU=" target="_blank" rel="noopener">Register</a>.</p><p>March 3: Discuss Book 2: The Sea of Monsters. You'll go home the Book 3: The Titan's Curse.&nbsp;<a href="https://secure.rec1.com/AZ/city-of-avondale-parks-recreation/catalog?filter=c2VhcmNoPTM5OTgzNjg=" target="_blank" rel="noopener">Register</a>.&nbsp;</p><p>April 7: Discuss&nbsp;Book 3: The Titan's Curse. You'll go home the Book 4: The Battle of the Labyrinth.&nbsp;<a href="https://secure.rec1.com/AZ/city-of-avondale-parks-recreation/catalog?filter=c2VhcmNoPTM5OTgzNzE=" target="_blank" rel="noopener">Register</a>.</p>
X-ALT-DESC;FMTTYPE=text/html:<p>YOUTH BOOK CLUB: PERCY JACKSON SERIES (AGES 7 – 14)<br>Embark on an exciting seven-month journey through the Percy&nbsp;Jackson series by Rick Riordan (graphic novels)! Each month, you'll receive a free copy&nbsp;of the next book in the series to read and discuss. You’ll receive the&nbsp;first book at the first meeting. Register on CivicRec to reserve your spot.</p><p>&nbsp;</p><p>January 6: During this meeting you'll receive your copy of Book 1: The Lightning Thief (graphic novel).&nbsp;<a href="https://secure.rec1.com/AZ/city-of-avondale-parks-recreation/catalog?filter=c2VhcmNoPTM5OTgzNTg=" target="_blank" rel="noopener">Register</a>.</p><p>February 3: Discuss Book 1: The Lightning Thief. You'll go home the Book 2: The Sea of Monsters.&nbsp;<a href="https://secure.rec1.com/AZ/city-of-avondale-parks-recreation/catalog?filter=c2VhcmNoPTM5OTgzNjU=" target="_blank" rel="noopener">Register</a>.</p><p>March 3: Discuss Book 2: The Sea of Monsters. You'll go home the Book 3: The Titan's Curse.&nbsp;<a href="https://secure.rec1.com/AZ/city-of-avondale-parks-recreation/catalog?filter=c2VhcmNoPTM5OTgzNjg=" target="_blank" rel="noopener">Register</a>.&nbsp;</p><p>April 7: Discuss&nbsp;Book 3: The Titan's Curse. You'll go home the Book 4: The Battle of the Labyrinth.&nbsp;<a href="https://secure.rec1.com/AZ/city-of-avondale-parks-recreation/catalog?filter=c2VhcmNoPTM5OTgzNzE=" target="_blank" rel="noopener">Register</a>.</p>
LOCATION:Sam Garcia Western Avenue Library\, 495 E. Western Ave. Avondale\, Arizona 85323
CLASS:PUBLIC
END:VEVENT
END:VCALENDAR
