BEGIN:VCALENDAR
VERSION:2.0
PRODID:City of Avondale Calendar Creator
METHOD:PUBLISH
BEGIN:VEVENT
DTSTAMP:20251201T134220
DTSTART:20260718T100000
DTEND:20260718T113000
SUMMARY:Smart Controller and Watering Basics
DESCRIPTION:Smart irrigation controllers are only "smart" if you now how to program them. Come learn how to get the most out of your smart irrigation controller, save water, and still have healthy plants in this comprehensive workshop.&nbsp;
X-ALT-DESC;FMTTYPE=text/html:Smart irrigation controllers are only "smart" if you now how to program them. Come learn how to get the most out of your smart irrigation controller, save water, and still have healthy plants in this comprehensive workshop.&nbsp;
LOCATION:Georgia T. Lord Library\, 1900 N Civic Square Goodyear\, Arizona 85323
CLASS:PUBLIC
END:VEVENT
END:VCALENDAR
