BEGIN:VCALENDAR
VERSION:2.0
PRODID:City of Avondale Calendar Creator
METHOD:PUBLISH
BEGIN:VEVENT
DTSTAMP:20251201T130340
DTSTART:20260912T100000
DTEND:20260912T113000
SUMMARY:Fruit Trees in the Desert
DESCRIPTION:
X-ALT-DESC;FMTTYPE=text/html:
LOCATION:Georgia T. Lord Library\, 1900 N. Civic Square Goodyear\, Arizona 85323
CLASS:PUBLIC
END:VEVENT
END:VCALENDAR
