BEGIN:VCALENDAR
VERSION:2.0
PRODID:City of Avondale Calendar Creator
METHOD:PUBLISH
BEGIN:VEVENT
DTSTAMP:20251201T131553
DTSTART:20261212T103000
DTEND:20261212T120000
SUMMARY:Cacti and Succulents
DESCRIPTION:
X-ALT-DESC;FMTTYPE=text/html:
LOCATION:Coyote Buckeye Library\, 21699 W. Yuma Road Buckeye\, Arizona 85323
CLASS:PUBLIC
END:VEVENT
END:VCALENDAR
