BEGIN:VCALENDAR
VERSION:2.0
PRODID:City of Avondale Calendar Creator
METHOD:PUBLISH
BEGIN:VEVENT
DTSTAMP:20260312T131140
DTSTART:20260404T140000
DTEND:20260404T150000
SUMMARY:Adult Craft: Beaded Plant Stakes at Civic Center Library (ages 18+)
DESCRIPTION:<p>Come hang out with our friendly crafting group for some fun crafts and activities. Materials will be provided. </p><p>This program is for adults and occurs on the 1st Saturday of the month at 2 pm.</p><p>&nbsp;Saturday, Jan 3 :&nbsp; Junk Journals</p><p>&nbsp;Saturday, Feb 7 :&nbsp; Heart Frames</p><p>&nbsp;Saturday, Mar 7 :&nbsp; Fairy Gardens</p><p>&nbsp;Saturday, Apr 4 :&nbsp; Beaded Plant Stakes</p>
X-ALT-DESC;FMTTYPE=text/html:<p>Come hang out with our friendly crafting group for some fun crafts and activities. Materials will be provided. </p><p>This program is for adults and occurs on the 1st Saturday of the month at 2 pm.</p><p>&nbsp;Saturday, Jan 3 :&nbsp; Junk Journals</p><p>&nbsp;Saturday, Feb 7 :&nbsp; Heart Frames</p><p>&nbsp;Saturday, Mar 7 :&nbsp; Fairy Gardens</p><p>&nbsp;Saturday, Apr 4 :&nbsp; Beaded Plant Stakes</p>
LOCATION:Civic Center Library\, 11350 W. Civic Center Dr. Avondale\, Arizona 85323
CLASS:PUBLIC
END:VEVENT
END:VCALENDAR
