BEGIN:VCALENDAR
VERSION:2.0
PRODID:City of Avondale Calendar Creator
METHOD:PUBLISH
BEGIN:VEVENT
DTSTAMP:20251206T131832
DTSTART:20260324T110000
DTEND:20260324T120000
SUMMARY:Preschool Storytime: Wonder Women March! at Civic Center Library (ages 2-6)
DESCRIPTION:<p>Celebrate Women's History Month during Preschool Storytime with inspiring special guests each week! Hear from female leaders, including representatives from the Avondale Police Department, Aquatics, and Marketing &amp; Public Relations, as well as Brittanie Cordova from Abbie Cakes and ASU iGem.</p><p>Tuesdays at 11 am in March.&nbsp;&nbsp;</p>
X-ALT-DESC;FMTTYPE=text/html:<p>Celebrate Women's History Month during Preschool Storytime with inspiring special guests each week! Hear from female leaders, including representatives from the Avondale Police Department, Aquatics, and Marketing &amp; Public Relations, as well as Brittanie Cordova from Abbie Cakes and ASU iGem.</p><p>Tuesdays at 11 am in March.&nbsp;&nbsp;</p>
LOCATION:Civic Center Library\, 11350 W. Civic Center Dr. Avondale\, Arizona 85323
CLASS:PUBLIC
END:VEVENT
END:VCALENDAR
