BEGIN:VCALENDAR
VERSION:2.0
PRODID:City of Avondale Calendar Creator
METHOD:PUBLISH
BEGIN:VEVENT
DTSTAMP:20260102T105105
DTSTART:20260417T100000
DTEND:20260417T110000
SUMMARY:Rec and Read at Festival Fields Park! (All Ages)
DESCRIPTION:<p>Join us for a brand-new outdoor storytime adventure each month! Families can enjoy a themed storytime with the library's bookmobile, followed by a hands-on activity led by Recreation staff. From painting and fishing to pickleball and kickball, every session combines books and play in the park for all ages!</p><p>Friday, January 16th - 10-11am : Painting Fun at Civic Center Park</p><p>Friday, February 20th - 10-11am : Basketball &amp; Soccer at Alamar Park</p><p>Friday, March 20th - 10-11am : Fishing Lessons at Friendship Park</p><p>Friday, April 3rd - 10-11am : Pickleball Play at Alamar Park</p><p>Friday, April 17th - 10-11am : Splashpad Celebration at Festival Fields Park</p><p>&nbsp;</p>
X-ALT-DESC;FMTTYPE=text/html:<p>Join us for a brand-new outdoor storytime adventure each month! Families can enjoy a themed storytime with the library's bookmobile, followed by a hands-on activity led by Recreation staff. From painting and fishing to pickleball and kickball, every session combines books and play in the park for all ages!</p><p>Friday, January 16th - 10-11am : Painting Fun at Civic Center Park</p><p>Friday, February 20th - 10-11am : Basketball &amp; Soccer at Alamar Park</p><p>Friday, March 20th - 10-11am : Fishing Lessons at Friendship Park</p><p>Friday, April 3rd - 10-11am : Pickleball Play at Alamar Park</p><p>Friday, April 17th - 10-11am : Splashpad Celebration at Festival Fields Park</p><p>&nbsp;</p>
LOCATION:Festival Fields\, 101 E Lower Buckeye Rd Avondale\, Arizona 85323
CLASS:PUBLIC
END:VEVENT
END:VCALENDAR
