BEGIN:VCALENDAR
VERSION:2.0
PRODID:City of Avondale Calendar Creator
METHOD:PUBLISH
BEGIN:VEVENT
DTSTAMP:20260310T165046
DTSTART:20260321T100000
DTEND:20260321T110000
SUMMARY:Jungle Jill's Animal Encounters
DESCRIPTION:<p>Get Wild with Jungle Jill! Slither, hop, and roar into an unforgettable wildlife adventure with Jungle Jill! Families will experience an exciting, up-close encounter with amazing live animals while discovering fun, surprising facts about creatures great and small. </p><p>Designed especially for infants, toddlers, and children up to age 5, this interactive presentation sparks curiosity, giggles, and wide-eyed wonder. Family members and siblings are welcome to join the fun!</p><p>Please register here: <a href="https://www.cognitoforms.com/CityOfAvondaleNFS/JungleJillsAnimalEncounters" target="_blank" rel="noopener">Jungle Jill's Animal Encounters</a></p><p>&nbsp;<hr></p><p data-start="0" data-end="42">¡Vive la aventura salvaje con Jungle Jill! Deslízate, salta y ruge en una experiencia inolvidable llena de vida silvestre con Jungle Jill. Las familias disfrutarán de un emocionante encuentro cercano con increíbles animales en vivo, mientras descubren datos curiosos y sorprendentes sobre criaturas grandes y pequeñas.</p><p data-start="321" data-end="503">Esta presentación interactiva está diseñada especialmente para bebés, niños pequeños y niños hasta los 5 años. Despertará su curiosidad, provocará muchas risas y momentos de asombro. Familiares y hermanitos también están invitados a unirse a la diversión.</p><p>Por favor regístrate aquí: <a href="https://www.cognitoforms.com/CityOfAvondaleNFS/JungleJillsAnimalEncounters" target="_blank" rel="noopener">Jungle Jill's Animal Encounters</a></p><p>&nbsp;</p>
X-ALT-DESC;FMTTYPE=text/html:<p>Get Wild with Jungle Jill! Slither, hop, and roar into an unforgettable wildlife adventure with Jungle Jill! Families will experience an exciting, up-close encounter with amazing live animals while discovering fun, surprising facts about creatures great and small. </p><p>Designed especially for infants, toddlers, and children up to age 5, this interactive presentation sparks curiosity, giggles, and wide-eyed wonder. Family members and siblings are welcome to join the fun!</p><p>Please register here: <a href="https://www.cognitoforms.com/CityOfAvondaleNFS/JungleJillsAnimalEncounters" target="_blank" rel="noopener">Jungle Jill's Animal Encounters</a></p><p>&nbsp;<hr></p><p data-start="0" data-end="42">¡Vive la aventura salvaje con Jungle Jill! Deslízate, salta y ruge en una experiencia inolvidable llena de vida silvestre con Jungle Jill. Las familias disfrutarán de un emocionante encuentro cercano con increíbles animales en vivo, mientras descubren datos curiosos y sorprendentes sobre criaturas grandes y pequeñas.</p><p data-start="321" data-end="503">Esta presentación interactiva está diseñada especialmente para bebés, niños pequeños y niños hasta los 5 años. Despertará su curiosidad, provocará muchas risas y momentos de asombro. Familiares y hermanitos también están invitados a unirse a la diversión.</p><p>Por favor regístrate aquí: <a href="https://www.cognitoforms.com/CityOfAvondaleNFS/JungleJillsAnimalEncounters" target="_blank" rel="noopener">Jungle Jill's Animal Encounters</a></p><p>&nbsp;</p>
LOCATION:Avondale Resource Center\, 995 E. Riley Dr Avondale\, Arizona 85323
CLASS:PUBLIC
END:VEVENT
END:VCALENDAR
