BEGIN:VCALENDAR
VERSION:2.0
PRODID:City of Avondale Calendar Creator
METHOD:PUBLISH
BEGIN:VEVENT
DTSTAMP:20260210T115501
DTSTART:20260320T153000
DTEND:20260320T163000
SUMMARY:Hoot 'N' Hustle Sign Making (All Ages)
DESCRIPTION:<p>Cheer on your community by creating a positive, supportive, and encouraging sign. All supplies provided.</p><p>&nbsp;Learn more about the <a href="https://www.avondaleaz.gov/government/departments/parks-recreation/events/hoot-n-hustle-5k-fun-run#!/" target="_blank" rel="noopener">Hoot N Hustle 5K</a>&nbsp;here.</p>
X-ALT-DESC;FMTTYPE=text/html:<p>Cheer on your community by creating a positive, supportive, and encouraging sign. All supplies provided.</p><p>&nbsp;Learn more about the <a href="https://www.avondaleaz.gov/government/departments/parks-recreation/events/hoot-n-hustle-5k-fun-run#!/" target="_blank" rel="noopener">Hoot N Hustle 5K</a>&nbsp;here.</p>
LOCATION:
CLASS:PUBLIC
END:VEVENT
END:VCALENDAR
