BEGIN:VCALENDAR
VERSION:2.0
PRODID:City of Avondale Calendar Creator
METHOD:PUBLISH
BEGIN:VEVENT
DTSTAMP:20260210T164158
DTSTART:20260228T143000
DTEND:20260228T163000
SUMMARY:Littles Learn and Connect: Friendship and Kindness Celebration!
DESCRIPTION:<p>Join us for a heartwarming afternoon celebrating friendship and kindness! Bring your family and enjoy crafts, laughter, and a healthy snack while spending quality time together</p><p>Please register here: <a href="https://www.cognitoforms.com/CityOfAvondaleNFS/LittlesLearnAndConnect" target="_blank" rel="noopener">Littles Learn and Connect: Friendship and Kindness Celebration!</a></p><p><hr></p><p>¡Acompáñanos a una tarde llena de calidez celebrando la amistad y la bondad! Trae a tu familia y disfruten de manualidades, risas y un refrigerio saludable mientras comparten tiempo de calidad juntos.</p><p>Por favor regístrate aquí: <a href="https://www.cognitoforms.com/CityOfAvondaleNFS/LittlesLearnAndConnect" target="_blank" rel="noopener">Littles Learn and Connect: Friendship and Kindness Celebration!</a></p>
X-ALT-DESC;FMTTYPE=text/html:<p>Join us for a heartwarming afternoon celebrating friendship and kindness! Bring your family and enjoy crafts, laughter, and a healthy snack while spending quality time together</p><p>Please register here: <a href="https://www.cognitoforms.com/CityOfAvondaleNFS/LittlesLearnAndConnect" target="_blank" rel="noopener">Littles Learn and Connect: Friendship and Kindness Celebration!</a></p><p><hr></p><p>¡Acompáñanos a una tarde llena de calidez celebrando la amistad y la bondad! Trae a tu familia y disfruten de manualidades, risas y un refrigerio saludable mientras comparten tiempo de calidad juntos.</p><p>Por favor regístrate aquí: <a href="https://www.cognitoforms.com/CityOfAvondaleNFS/LittlesLearnAndConnect" target="_blank" rel="noopener">Littles Learn and Connect: Friendship and Kindness Celebration!</a></p>
LOCATION:Avondale Resource Center\, 995 E. Riley Dr Avondale\, Arizona 85323
CLASS:PUBLIC
END:VEVENT
END:VCALENDAR
