BEGIN:VCALENDAR
VERSION:2.0
PRODID:City of Avondale Calendar Creator
METHOD:PUBLISH
BEGIN:VEVENT
DTSTAMP:20260218T153502
DTSTART:20260420T100000
DTEND:20260420T120000
SUMMARY:Needle & Thread at Sam Garcia Library (ages 18+)
DESCRIPTION:<p>Work on your project, chat, and share tips with fellow crafters. Bring your own materials and coffee mug. Instruction books are available. Registration is not required. Join in on the fun any time!&nbsp;For ages 18+.</p><p><i>We are committed to making our events welcoming and accessible for everyone. If you need accommodations to participate, please email EmailLibrary@avondaleaz.gov or&nbsp;<a data-linkindex="7" title="https://www.avondalelibrary.org/about-us/contact-us" id="OWAa3e3d378-b24d-2087-4743-6d0021ed1d91" data-auth="NotApplicable" rel="noopener noreferrer" target="_blank" href="https://www.avondalelibrary.org/about-us/contact-us">fill out this form</a>.</i></p>
X-ALT-DESC;FMTTYPE=text/html:<p>Work on your project, chat, and share tips with fellow crafters. Bring your own materials and coffee mug. Instruction books are available. Registration is not required. Join in on the fun any time!&nbsp;For ages 18+.</p><p><i>We are committed to making our events welcoming and accessible for everyone. If you need accommodations to participate, please email EmailLibrary@avondaleaz.gov or&nbsp;<a data-linkindex="7" title="https://www.avondalelibrary.org/about-us/contact-us" id="OWAa3e3d378-b24d-2087-4743-6d0021ed1d91" data-auth="NotApplicable" rel="noopener noreferrer" target="_blank" href="https://www.avondalelibrary.org/about-us/contact-us">fill out this form</a>.</i></p>
LOCATION:Sam Garcia Western Avenue Library\, 495 E. Western Ave. Avondale\, Arizona 85323
CLASS:PUBLIC
END:VEVENT
END:VCALENDAR
