BEGIN:VCALENDAR
VERSION:2.0
PRODID:City of Avondale Calendar Creator
METHOD:PUBLISH
BEGIN:VEVENT
DTSTAMP:20260307T093236
DTSTART:20260312T163000
DTEND:20260312T173000
SUMMARY:Zumbini - CANCELED
DESCRIPTION:<span data-start="44" data-end="63">Hello families,</span><br data-start="63" data-end="66">Zumbini is canceled today, March 12th. Classes will resume on March 18th.<br data-start="468" data-end="471">Please register here:<a href="https://www.cognitoforms.com/CityOfAvondaleNFS/Zumbini" target="_blank" rel="noopener">&nbsp;</a><a href="https://www.cognitoforms.com/CityOfAvondaleNFS/Zumbini" target="_blank" rel="noopener">Zumbini</a><p>&nbsp;</p><hr><span data-start="0" data-end="18">Hola familias,</span><br data-start="18" data-end="21">Zumbini está cancelado hoy, 12 de marzo. Las clases se reanudarán el 18 de marzo.<br data-start="496" data-end="499">Por favor regístrate aquí:&nbsp;<a href="https://www.cognitoforms.com/CityOfAvondaleNFS/Zumbini" target="_blank" rel="noopener">Zumbini</a>
X-ALT-DESC;FMTTYPE=text/html:<span data-start="44" data-end="63">Hello families,</span><br data-start="63" data-end="66">Zumbini is canceled today, March 12th. Classes will resume on March 18th.<br data-start="468" data-end="471">Please register here:<a href="https://www.cognitoforms.com/CityOfAvondaleNFS/Zumbini" target="_blank" rel="noopener">&nbsp;</a><a href="https://www.cognitoforms.com/CityOfAvondaleNFS/Zumbini" target="_blank" rel="noopener">Zumbini</a><p>&nbsp;</p><hr><span data-start="0" data-end="18">Hola familias,</span><br data-start="18" data-end="21">Zumbini está cancelado hoy, 12 de marzo. Las clases se reanudarán el 18 de marzo.<br data-start="496" data-end="499">Por favor regístrate aquí:&nbsp;<a href="https://www.cognitoforms.com/CityOfAvondaleNFS/Zumbini" target="_blank" rel="noopener">Zumbini</a>
LOCATION:Avondale Resource Center\, 995 E. Riley Dr Avondale\, Arizona 85323
CLASS:PUBLIC
END:VEVENT
END:VCALENDAR
