BEGIN:VCALENDAR
VERSION:2.0
PRODID:City of Avondale Calendar Creator
METHOD:PUBLISH
BEGIN:VEVENT
DTSTAMP:20260310T113130
DTSTART:20260326T163000
DTEND:20260326T173000
SUMMARY:Zumbini - CANCELED
DESCRIPTION:Hello families,<br data-start="63" data-end="66">Zumbini is canceled today, March 26th. Classes will resume on April 1st.<br data-start="468" data-end="471">Please register here:<a href="https://www.cognitoforms.com/CityOfAvondaleNFS/Zumbini" target="_blank" rel="noopener">&nbsp;</a><a href="https://www.cognitoforms.com/CityOfAvondaleNFS/Zumbini" target="_blank" rel="noopener">Zumbini</a><p>&nbsp;</p><hr>Hola familias,<br data-start="18" data-end="21">Zumbini está cancelado hoy, 26 de marzo. Las clases se reanudarán el 1 de abril.<br data-start="496" data-end="499">Por favor regístrate aquí:&nbsp;<a href="https://www.cognitoforms.com/CityOfAvondaleNFS/Zumbini" target="_blank" rel="noopener">Zumbini</a><br data-start="468" data-end="471">
X-ALT-DESC;FMTTYPE=text/html:Hello families,<br data-start="63" data-end="66">Zumbini is canceled today, March 26th. Classes will resume on April 1st.<br data-start="468" data-end="471">Please register here:<a href="https://www.cognitoforms.com/CityOfAvondaleNFS/Zumbini" target="_blank" rel="noopener">&nbsp;</a><a href="https://www.cognitoforms.com/CityOfAvondaleNFS/Zumbini" target="_blank" rel="noopener">Zumbini</a><p>&nbsp;</p><hr>Hola familias,<br data-start="18" data-end="21">Zumbini está cancelado hoy, 26 de marzo. Las clases se reanudarán el 1 de abril.<br data-start="496" data-end="499">Por favor regístrate aquí:&nbsp;<a href="https://www.cognitoforms.com/CityOfAvondaleNFS/Zumbini" target="_blank" rel="noopener">Zumbini</a><br data-start="468" data-end="471">
LOCATION:Avondale Resource Center\, 995 E. Riley Dr Avondale\, Arizona 85323
CLASS:PUBLIC
END:VEVENT
END:VCALENDAR
