BEGIN:VCALENDAR
VERSION:2.0
PRODID:City of Avondale Calendar Creator
METHOD:PUBLISH
BEGIN:VEVENT
DTSTAMP:20260318T125455
DTSTART:20260320T170000
DTEND:20260320T190000
SUMMARY:Civic Center Art Gallery: Grand Opening & Art Reception
DESCRIPTION:<div x14z9mp="" xat24cr="" x1lziwak="" x1vvkbs="" x126k92a"=""><div dir="auto">Art in Nature: Gallery Grand Opening and Art Reception</div><p dir="auto">&nbsp;</p><div dir="auto">5 - 7 p.m. on Friday, March 20 2026</div><p dir="auto">&nbsp;</p></div><div xat24cr="" x1lziwak="" x1vvkbs="" xtlvy1s="" x126k92a"=""><div dir="auto">Experience the new Civic Center Art Gallery with the debut exhibition featuring works inspired by the natural world. The gallery is located inside the Civic Center Library. Light refreshments will be served.</div></div><div xat24cr="" x1lziwak="" x1vvkbs="" xtlvy1s="" x126k92a"=""><div dir="auto">&nbsp;</div><div dir="auto">The exhibit will be on display March 20 to April 21 during regular library hours:</div><p dir="auto">Monday - Thursday: 10 a.m. - 6 p.m.</p><div dir="auto">Friday - Saturday: 1 - 5 p.m.</div></div>
X-ALT-DESC;FMTTYPE=text/html:<div x14z9mp="" xat24cr="" x1lziwak="" x1vvkbs="" x126k92a"=""><div dir="auto">Art in Nature: Gallery Grand Opening and Art Reception</div><p dir="auto">&nbsp;</p><div dir="auto">5 - 7 p.m. on Friday, March 20 2026</div><p dir="auto">&nbsp;</p></div><div xat24cr="" x1lziwak="" x1vvkbs="" xtlvy1s="" x126k92a"=""><div dir="auto">Experience the new Civic Center Art Gallery with the debut exhibition featuring works inspired by the natural world. The gallery is located inside the Civic Center Library. Light refreshments will be served.</div></div><div xat24cr="" x1lziwak="" x1vvkbs="" xtlvy1s="" x126k92a"=""><div dir="auto">&nbsp;</div><div dir="auto">The exhibit will be on display March 20 to April 21 during regular library hours:</div><p dir="auto">Monday - Thursday: 10 a.m. - 6 p.m.</p><div dir="auto">Friday - Saturday: 1 - 5 p.m.</div></div>
LOCATION:Civic Center Library\, 11350 W. Civic Center Dr. Avondale\, Arizona 85323
CLASS:PUBLIC
END:VEVENT
END:VCALENDAR
