BEGIN:VCALENDAR
VERSION:2.0
PRODID:City of Avondale Calendar Creator
METHOD:PUBLISH
BEGIN:VEVENT
DTSTAMP:20260325T091211
DTSTART:20260328T143000
DTEND:20260328T163000
SUMMARY:Littles Learn and Connect: Play With Me!
DESCRIPTION:<p>Play With Me!:&nbsp;Join us on Saturday, March 28th from 2:30 PM – 4:30 PM&nbsp;for a fun, interactive play session designed for families with young children. This program encourages parent-child bonding, social interaction, and early learning through play-based activities.</p><p>Register here: <a aria-label="Link https://www.cognitoforms.com/CityOfAvondaleNFS/LittlesLearnAndConnect" href="https://www.cognitoforms.com/CityOfAvondaleNFS/LittlesLearnAndConnect" rel="noopener" target="_blank" ___1q1shib="" f2hkw1w="" f3rmtva="" f1ewtqcl="" fyind8e="" f1k6fduh="" f1w7gpdv="" fk6fouc="" fjoy568="" figsok6="" f1s184ao="" f1mk8lai="" fnbmjn9="" f1o700av="" f13mvf36="" f1cmlufx="" f9n3di6="" f1ids18y="" f1tx3yz7="" f1deo86v="" f1eh06m1="" f1iescvh="" fhgqx19="" f1olyrje="" f1p93eir="" f1nev41a="" f1h8hb77="" f1lqvz6u="" f10aw75t="" fsle3fq="" f17ae5zn"="">Littles Learn and Connect: Play With Me</a></p><p><hr></p><p>¡Juega Conmigo! Acompáñanos el sábado 28 de marzo de 2:30 p. m. a 4:30 p. m. para una sesión de juego divertida e interactiva diseñada para familias con niños pequeños. Este programa fomenta el vínculo entre padres e hijos, la interacción social y el aprendizaje temprano a través de actividades basadas en el juego.</p><p>Regístrate aquí: <a href="https://www.cognitoforms.com/CityOfAvondaleNFS/LittlesLearnAndConnect" target="_blank" rel="noopener">Littles Learn and Connect: Play With Me</a></p>
X-ALT-DESC;FMTTYPE=text/html:<p>Play With Me!:&nbsp;Join us on Saturday, March 28th from 2:30 PM – 4:30 PM&nbsp;for a fun, interactive play session designed for families with young children. This program encourages parent-child bonding, social interaction, and early learning through play-based activities.</p><p>Register here: <a aria-label="Link https://www.cognitoforms.com/CityOfAvondaleNFS/LittlesLearnAndConnect" href="https://www.cognitoforms.com/CityOfAvondaleNFS/LittlesLearnAndConnect" rel="noopener" target="_blank" ___1q1shib="" f2hkw1w="" f3rmtva="" f1ewtqcl="" fyind8e="" f1k6fduh="" f1w7gpdv="" fk6fouc="" fjoy568="" figsok6="" f1s184ao="" f1mk8lai="" fnbmjn9="" f1o700av="" f13mvf36="" f1cmlufx="" f9n3di6="" f1ids18y="" f1tx3yz7="" f1deo86v="" f1eh06m1="" f1iescvh="" fhgqx19="" f1olyrje="" f1p93eir="" f1nev41a="" f1h8hb77="" f1lqvz6u="" f10aw75t="" fsle3fq="" f17ae5zn"="">Littles Learn and Connect: Play With Me</a></p><p><hr></p><p>¡Juega Conmigo! Acompáñanos el sábado 28 de marzo de 2:30 p. m. a 4:30 p. m. para una sesión de juego divertida e interactiva diseñada para familias con niños pequeños. Este programa fomenta el vínculo entre padres e hijos, la interacción social y el aprendizaje temprano a través de actividades basadas en el juego.</p><p>Regístrate aquí: <a href="https://www.cognitoforms.com/CityOfAvondaleNFS/LittlesLearnAndConnect" target="_blank" rel="noopener">Littles Learn and Connect: Play With Me</a></p>
LOCATION:Avondale Resource Center\, 995 E. Riley Dr Avondale\, Arizona 85323
CLASS:PUBLIC
END:VEVENT
END:VCALENDAR
