BEGIN:VCALENDAR
VERSION:2.0
PRODID:City of Avondale Calendar Creator
METHOD:PUBLISH
BEGIN:VEVENT
DTSTAMP:20260331T182049
DTSTART:20260411T103000
DTEND:20260411T120000
SUMMARY:Eat, Play, Grow and Color Me Healthy
DESCRIPTION:<p>Learn fun, physical activities to do with your children and new tips for eating healthy in this interactive class. Children are welcome to attend and each participant will receive free gifts. Classes by appointment only</p><p>Register Here: <a href="https://www.cognitoforms.com/CityOfAvondaleNFS/RegistrationForEatPlayGrowAndColorMeHealthy" target="_blank" rel="noopener">Eat, Play, Grow</a></p><p><hr><section w-full="" focus:outline-none="" [--shadow-height:45px]="" has-data-writing-block:pointer-events-none="" has-data-writing-block:-mt-(--shadow-height)="" has-data-writing-block:pt-(--shadow-height)="" [&amp;:has([data-writing-block])&gt;*]:pointer-events-auto="" scroll-mt-(--header-height)"="" dir="auto" data-turn-id="3ecfc350-e003-4175-972b-6427e3279860" data-testid="conversation-turn-1" data-scroll-anchor="false" data-turn="user"></section><section w-full="" focus:outline-none="" [--shadow-height:45px]="" has-data-writing-block:pointer-events-none="" has-data-writing-block:-mt-(--shadow-height)="" has-data-writing-block:pt-(--shadow-height)="" [&amp;:has([data-writing-block])&gt;*]:pointer-events-auto="" scroll-mt-[calc(var(--header-height)+min(200px,max(70px,20svh)))]"="" dir="auto" data-turn-id="request-WEB:187502ba-6169-43bb-92e8-211e0bbcba1c-0" data-testid="conversation-turn-2" data-scroll-anchor="true" data-turn="assistant"><div my-auto="" mx-auto="" pb-10="" [--thread-content-margin:var(--thread-content-margin-xs,calc(var(--spacing)*4))]="" @w-sm="" main:[--thread-content-margin:var(--thread-content-margin-sm,calc(var(--spacing)*6))]="" @w-lg="" main:[--thread-content-margin:var(--thread-content-margin-lg,calc(var(--spacing)*16))]="" px-(--thread-content-margin)"=""><div @w-lg="" main:[--thread-content-max-width:48rem]="" mx-auto="" max-w-(--thread-content-max-width)="" flex-1="" group="" turn-messages="" focus-visible:outline-hidden="" relative="" flex="" w-full="" min-w-0="" flex-col="" agent-turn"=""><div max-w-full="" flex-col="" gap-4="" grow"=""><div data-message-author-role="assistant" data-message-id="914fb469-6cd3-41c4-bbe2-1ddc9f1aa829" dir="auto" data-message-model-slug="gpt-5-3" text-message="" relative="" flex="" w-full="" flex-col="" items-end="" gap-2="" text-start="" break-words="" whitespace-normal="" outline-none="" keyboard-focused:focus-ring="" [.text-message+&amp;]:mt-1"="" data-turn-start-message="true" tabindex="0"><div w-full="" flex-col="" gap-1="" empty:hidden"=""><div prose="" dark:prose-invert="" w-full="" wrap-break-word="" dark="" markdown-new-styling"=""></div></div></div></div></div></div></section></p><p data-start="0" data-end="222">Aprende actividades físicas divertidas para hacer con tus hijos y nuevos consejos para comer de manera saludable en esta clase interactiva. Los niños son bienvenidos a asistir y cada participante recibirá regalos gratis. Clases solo con cita previa.</p><p data-start="0" data-end="222">Regístrate aquí: <a href="https://www.cognitoforms.com/CityOfAvondaleNFS/RegistrationForEatPlayGrowAndColorMeHealthy" target="_blank" rel="noopener">Eat, Play, Grow</a></p>
X-ALT-DESC;FMTTYPE=text/html:<p>Learn fun, physical activities to do with your children and new tips for eating healthy in this interactive class. Children are welcome to attend and each participant will receive free gifts. Classes by appointment only</p><p>Register Here: <a href="https://www.cognitoforms.com/CityOfAvondaleNFS/RegistrationForEatPlayGrowAndColorMeHealthy" target="_blank" rel="noopener">Eat, Play, Grow</a></p><p><hr><section w-full="" focus:outline-none="" [--shadow-height:45px]="" has-data-writing-block:pointer-events-none="" has-data-writing-block:-mt-(--shadow-height)="" has-data-writing-block:pt-(--shadow-height)="" [&amp;:has([data-writing-block])&gt;*]:pointer-events-auto="" scroll-mt-(--header-height)"="" dir="auto" data-turn-id="3ecfc350-e003-4175-972b-6427e3279860" data-testid="conversation-turn-1" data-scroll-anchor="false" data-turn="user"></section><section w-full="" focus:outline-none="" [--shadow-height:45px]="" has-data-writing-block:pointer-events-none="" has-data-writing-block:-mt-(--shadow-height)="" has-data-writing-block:pt-(--shadow-height)="" [&amp;:has([data-writing-block])&gt;*]:pointer-events-auto="" scroll-mt-[calc(var(--header-height)+min(200px,max(70px,20svh)))]"="" dir="auto" data-turn-id="request-WEB:187502ba-6169-43bb-92e8-211e0bbcba1c-0" data-testid="conversation-turn-2" data-scroll-anchor="true" data-turn="assistant"><div my-auto="" mx-auto="" pb-10="" [--thread-content-margin:var(--thread-content-margin-xs,calc(var(--spacing)*4))]="" @w-sm="" main:[--thread-content-margin:var(--thread-content-margin-sm,calc(var(--spacing)*6))]="" @w-lg="" main:[--thread-content-margin:var(--thread-content-margin-lg,calc(var(--spacing)*16))]="" px-(--thread-content-margin)"=""><div @w-lg="" main:[--thread-content-max-width:48rem]="" mx-auto="" max-w-(--thread-content-max-width)="" flex-1="" group="" turn-messages="" focus-visible:outline-hidden="" relative="" flex="" w-full="" min-w-0="" flex-col="" agent-turn"=""><div max-w-full="" flex-col="" gap-4="" grow"=""><div data-message-author-role="assistant" data-message-id="914fb469-6cd3-41c4-bbe2-1ddc9f1aa829" dir="auto" data-message-model-slug="gpt-5-3" text-message="" relative="" flex="" w-full="" flex-col="" items-end="" gap-2="" text-start="" break-words="" whitespace-normal="" outline-none="" keyboard-focused:focus-ring="" [.text-message+&amp;]:mt-1"="" data-turn-start-message="true" tabindex="0"><div w-full="" flex-col="" gap-1="" empty:hidden"=""><div prose="" dark:prose-invert="" w-full="" wrap-break-word="" dark="" markdown-new-styling"=""></div></div></div></div></div></div></section></p><p data-start="0" data-end="222">Aprende actividades físicas divertidas para hacer con tus hijos y nuevos consejos para comer de manera saludable en esta clase interactiva. Los niños son bienvenidos a asistir y cada participante recibirá regalos gratis. Clases solo con cita previa.</p><p data-start="0" data-end="222">Regístrate aquí: <a href="https://www.cognitoforms.com/CityOfAvondaleNFS/RegistrationForEatPlayGrowAndColorMeHealthy" target="_blank" rel="noopener">Eat, Play, Grow</a></p>
LOCATION:Avondale Resource Center\, 995 E. Riley Dr Avondale\, Arizona 85323
CLASS:PUBLIC
END:VEVENT
END:VCALENDAR
